BEGIN:VCALENDAR
VERSION:2.0
PRODID:-//Tennis-Club Granges-Marnand - ECPv6.14.2//NONSGML v1.0//EN
CALSCALE:GREGORIAN
METHOD:PUBLISH
X-WR-CALNAME:Tennis-Club Granges-Marnand
X-ORIGINAL-URL:https://tcgm.ch
X-WR-CALDESC:Évènements pour Tennis-Club Granges-Marnand
REFRESH-INTERVAL;VALUE=DURATION:PT1H
X-Robots-Tag:noindex
X-PUBLISHED-TTL:PT1H
BEGIN:VTIMEZONE
TZID:Europe/Paris
BEGIN:DAYLIGHT
TZOFFSETFROM:+0100
TZOFFSETTO:+0200
TZNAME:CEST
DTSTART:20240331T010000
END:DAYLIGHT
BEGIN:STANDARD
TZOFFSETFROM:+0200
TZOFFSETTO:+0100
TZNAME:CET
DTSTART:20241027T010000
END:STANDARD
BEGIN:DAYLIGHT
TZOFFSETFROM:+0100
TZOFFSETTO:+0200
TZNAME:CEST
DTSTART:20250330T010000
END:DAYLIGHT
BEGIN:STANDARD
TZOFFSETFROM:+0200
TZOFFSETTO:+0100
TZNAME:CET
DTSTART:20251026T010000
END:STANDARD
END:VTIMEZONE
BEGIN:VEVENT
DTSTART;TZID=Europe/Paris:20250913T093000
DTEND;TZID=Europe/Paris:20250913T113000
DTSTAMP:20260422T151140
CREATED:20250815T094515Z
LAST-MODIFIED:20250815T094515Z
UID:1541-1757755800-1757763000@tcgm.ch
SUMMARY:Portes-ouvertes du TC
DESCRIPTION:Initiation et découverte du club. Inscription souhaitée pour cette activité par whatsapp/SMS au  079 596 69 69.
URL:https://tcgm.ch/evenement/portes-ouvertes-du-tc-2/
LOCATION:Courts extérieurs\, Chemin des sports 21\, Granges-Marnand\, 1523\, Switzerland
ATTACH;FMTTYPE=image/png:https://tcgm.ch/wp-content/uploads/2025/08/ProjetPO20252-e1755250521955.png
END:VEVENT
BEGIN:VEVENT
DTSTART;TZID=Europe/Paris:20250906T093000
DTEND;TZID=Europe/Paris:20250906T113000
DTSTAMP:20260422T151140
CREATED:20250815T094656Z
LAST-MODIFIED:20250815T094656Z
UID:1543-1757151000-1757158200@tcgm.ch
SUMMARY:Portes-ouvertes du TC
DESCRIPTION:Initiation et découverte du club. Inscription souhaitée pour cette activité par whatsapp/SMS au  079 596 69 69.
URL:https://tcgm.ch/evenement/portes-ouvertes-du-tc-5/
LOCATION:Courts extérieurs\, Chemin des sports 21\, Granges-Marnand\, 1523\, Switzerland
ATTACH;FMTTYPE=image/png:https://tcgm.ch/wp-content/uploads/2025/08/ProjetPO20252-e1755250521955.png
END:VEVENT
BEGIN:VEVENT
DTSTART;TZID=Europe/Paris:20250830T093000
DTEND;TZID=Europe/Paris:20250830T113000
DTSTAMP:20260422T151140
CREATED:20250815T094630Z
LAST-MODIFIED:20250815T094630Z
UID:1542-1756546200-1756553400@tcgm.ch
SUMMARY:Portes-ouvertes du TC
DESCRIPTION:Initiation et découverte du club. Inscription souhaitée pour cette activité par whatsapp/SMS au  079 596 69 69.
URL:https://tcgm.ch/evenement/portes-ouvertes-du-tc-4/
LOCATION:Courts extérieurs\, Chemin des sports 21\, Granges-Marnand\, 1523\, Switzerland
ATTACH;FMTTYPE=image/png:https://tcgm.ch/wp-content/uploads/2025/08/ProjetPO20252-e1755250521955.png
END:VEVENT
BEGIN:VEVENT
DTSTART;TZID=Europe/Paris:20250823T093000
DTEND;TZID=Europe/Paris:20250823T113000
DTSTAMP:20260422T151140
CREATED:20250815T094601Z
LAST-MODIFIED:20250815T094601Z
UID:1536-1755941400-1755948600@tcgm.ch
SUMMARY:Portes-ouvertes du TC
DESCRIPTION:Initiation et découverte du club. Inscription souhaitée pour cette activité par whatsapp/SMS au  079 596 69 69.
URL:https://tcgm.ch/evenement/portes-ouvertes-du-tc-3/
LOCATION:Courts extérieurs\, Chemin des sports 21\, Granges-Marnand\, 1523\, Switzerland
ATTACH;FMTTYPE=image/png:https://tcgm.ch/wp-content/uploads/2025/08/ProjetPO20252-e1755250521955.png
END:VEVENT
BEGIN:VEVENT
DTSTART;TZID=Europe/Paris:20250201T080000
DTEND;TZID=Europe/Paris:20250201T180000
DTSTAMP:20260422T151140
CREATED:20241206T143830Z
LAST-MODIFIED:20250616T142231Z
UID:1397-1738396800-1738432800@tcgm.ch
SUMMARY:Repas Familial ouvert à tous le 1er février 2025 !
DESCRIPTION:Le 1er février 2025\, le Tennis-club Granges-Marnand organise la première édition de son Repas familial ouvert à tous\, à l’occasion de son 40ème anniversaire. \nDepuis 1984\, le club réunit tous les amateurs du sport. Les 3 courts extérieurs\, situés au bord de la Broye\, se trouvent dans un cadre idéal : à côté de nouvelles infrastructures\, comme le padel et du Centre de Tennis\, désormais rénové. Le futur renouvellement de la surface des courts extérieurs est prévu dans le cadre du projet de réaménagement de la Place des sports. \nEn se félicitant de ses perspectives\, nous vous donnons rendez-vous\, afin de partager un moment convivial\, le samedi 1er février 2025 dès 18h pour l’apéritif offert au Centre Sous-Bosset. \nPrix : 40.- (au menu : fondue chinoise\, dessert) 12-16 ans : 20.-\, 1.- par année dès 5 ans. Sur inscription jusqu’au 20 janvier 2025 au 079.596.69.69 (par téléphone ou SMS). Parking : Créabéton. Lieu : Centre-sous-Bosset\, Sent. Sous-Bosset 2\, 1523 Granges-près-Marnand.
URL:https://tcgm.ch/evenement/repas-familial-ouvert-a-tous-le-1er-fevrier-2025/
END:VEVENT
BEGIN:VEVENT
DTSTART;TZID=Europe/Paris:20241007T093000
DTEND;TZID=Europe/Paris:20241007T113000
DTSTAMP:20260422T151140
CREATED:20241004T073816Z
LAST-MODIFIED:20241004T075020Z
UID:1340-1728293400-1728300600@tcgm.ch
SUMMARY:Portes-ouvertes du TC
DESCRIPTION:Initiation et découverte du club. Inscription souhaitée pour cette activité au 078 229 42 66.
URL:https://tcgm.ch/evenement/portes-ouvertes-du-tc/
LOCATION:Courts extérieurs\, Chemin des sports 21\, Granges-Marnand\, 1523\, Switzerland
ATTACH;FMTTYPE=image/jpeg:https://tcgm.ch/wp-content/uploads/2024/10/Tennis_Racket_and_Balls-scaled.jpg
END:VEVENT
END:VCALENDAR